BEGIN:VCALENDAR
VERSION:2.0
PRODID:-//Republican Assembly Indiana Southwest - ECPv6.15.20//NONSGML v1.0//EN
CALSCALE:GREGORIAN
METHOD:PUBLISH
X-WR-CALNAME:Republican Assembly Indiana Southwest
X-ORIGINAL-URL:https://rains8.com
X-WR-CALDESC:Events for Republican Assembly Indiana Southwest
REFRESH-INTERVAL;VALUE=DURATION:PT1H
X-Robots-Tag:noindex
X-PUBLISHED-TTL:PT1H
BEGIN:VTIMEZONE
TZID:America/Chicago
BEGIN:DAYLIGHT
TZOFFSETFROM:-0600
TZOFFSETTO:-0500
TZNAME:CDT
DTSTART:20230312T080000
END:DAYLIGHT
BEGIN:STANDARD
TZOFFSETFROM:-0500
TZOFFSETTO:-0600
TZNAME:CST
DTSTART:20231105T070000
END:STANDARD
BEGIN:DAYLIGHT
TZOFFSETFROM:-0600
TZOFFSETTO:-0500
TZNAME:CDT
DTSTART:20240310T080000
END:DAYLIGHT
BEGIN:STANDARD
TZOFFSETFROM:-0500
TZOFFSETTO:-0600
TZNAME:CST
DTSTART:20241103T070000
END:STANDARD
BEGIN:DAYLIGHT
TZOFFSETFROM:-0600
TZOFFSETTO:-0500
TZNAME:CDT
DTSTART:20250309T080000
END:DAYLIGHT
BEGIN:STANDARD
TZOFFSETFROM:-0500
TZOFFSETTO:-0600
TZNAME:CST
DTSTART:20251102T070000
END:STANDARD
END:VTIMEZONE
BEGIN:VEVENT
DTSTART;TZID=America/Chicago:20241005T090000
DTEND;TZID=America/Chicago:20241005T131500
DTSTAMP:20260423T190640
CREATED:20241004T044015Z
LAST-MODIFIED:20241004T044015Z
UID:10000005-1728118800-1728134100@rains8.com
SUMMARY:Get Out The Vote Super Saturday
DESCRIPTION:Get Out The Vote\nDoor to Door – Campaign Event \nSaturday\, October 5th \nThe Carousel Restaurant \n5115 Monroe Avenue \nEvansville\, IN \nDetails: \n9 AM – Meet at Carousel for Breakfast \n10:15 AM – Depart for Door Knocking \n1:15 PM  – Conclude Canvassing* \n*If you only have a little time – come to the event – we can get you set up and you can walk anytime convenient to your schedule. \n\nBe a part of the Team-Text Alice Work at (812) 483-8350 to register and get signed up for the Walk App.
URL:https://rains8.com/event/get-out-the-vote-super-saturday/
LOCATION:The Carousel Restaurant\, 5115 Monroe Avenue\, Evansville\, United States
ATTACH;FMTTYPE=image/jpeg:https://rains8.com/wp-content/uploads/2024/10/GOTV_Vanderburgh_10-4-24.jpg
END:VEVENT
END:VCALENDAR