BEGIN:VCALENDAR
VERSION:2.0
PRODID:-//Republican Assembly Indiana Southwest - ECPv6.15.20//NONSGML v1.0//EN
CALSCALE:GREGORIAN
METHOD:PUBLISH
X-WR-CALNAME:Republican Assembly Indiana Southwest
X-ORIGINAL-URL:https://rains8.com
X-WR-CALDESC:Events for Republican Assembly Indiana Southwest
REFRESH-INTERVAL;VALUE=DURATION:PT1H
X-Robots-Tag:noindex
X-PUBLISHED-TTL:PT1H
BEGIN:VTIMEZONE
TZID:America/Chicago
BEGIN:DAYLIGHT
TZOFFSETFROM:-0600
TZOFFSETTO:-0500
TZNAME:CDT
DTSTART:20230312T080000
END:DAYLIGHT
BEGIN:STANDARD
TZOFFSETFROM:-0500
TZOFFSETTO:-0600
TZNAME:CST
DTSTART:20231105T070000
END:STANDARD
BEGIN:DAYLIGHT
TZOFFSETFROM:-0600
TZOFFSETTO:-0500
TZNAME:CDT
DTSTART:20240310T080000
END:DAYLIGHT
BEGIN:STANDARD
TZOFFSETFROM:-0500
TZOFFSETTO:-0600
TZNAME:CST
DTSTART:20241103T070000
END:STANDARD
BEGIN:DAYLIGHT
TZOFFSETFROM:-0600
TZOFFSETTO:-0500
TZNAME:CDT
DTSTART:20250309T080000
END:DAYLIGHT
BEGIN:STANDARD
TZOFFSETFROM:-0500
TZOFFSETTO:-0600
TZNAME:CST
DTSTART:20251102T070000
END:STANDARD
END:VTIMEZONE
BEGIN:VEVENT
DTSTART;TZID=America/Chicago:20240720T100000
DTEND;TZID=America/Chicago:20240720T113000
DTSTAMP:20260424T073403
CREATED:20240705T033216Z
LAST-MODIFIED:20240716T204212Z
UID:10000002-1721469600-1721475000@rains8.com
SUMMARY:Rally For America
DESCRIPTION: Rally for America\n \nThe purpose of this event will be to stimulate people to show up to vote in the general election on 11/5 and beyond. Voter registration will be available at the rally\, as will be reasons WHY participation in this election is so vital. The emphasis will be on the policies affecting “people’s pocket books” and why these must be changed.\nThe Rally for America will take place at the parking lot on the west side of the Roca Bar restaurant (on 4600 Washington Avenue just west of Green River Road — north side of Washington Ave. between Roca Bar 4600 Washington Ave and Old National Bank 4500 Washington ave.) on Saturday\, July 20\, from 10:00 a.m. to 11:30 a.m.\nContact the organizer\, Mark Georges\, for info and what HE needs from YOU. He’s looking for help; volunteers to assist with the event and supply tables\, folding chairs\, clip boards\, bottles of water\, signs\, flags\, etc. You may also contact Margie Tomes for sign-ups to help with the event.
URL:https://rains8.com/event/rally-for-america/
LOCATION:4600 Washington Ave\, 4600 Washington Ave\, Evansville\, IN\, 47714\, United States
ATTACH;FMTTYPE=image/png:https://rains8.com/wp-content/uploads/2024/07/Rally-For-America-3.png
ORGANIZER;CN="Mark Georges":MAILTO:mgeorgesevv@gmail.com
END:VEVENT
BEGIN:VEVENT
DTSTART;TZID=America/Chicago:20240716T180000
DTEND;TZID=America/Chicago:20240716T200000
DTSTAMP:20260424T073403
CREATED:20240703T212034Z
LAST-MODIFIED:20240716T203835Z
UID:10000001-1721152800-1721160000@rains8.com
SUMMARY:RAINS Monthly Meeting
DESCRIPTION:FOR ALL MEMBERS\nSPEAKER: CHRIS POLITANO \n\nTOPIC: HELP YOUR CANDIDATE GET ELECTED\n\nMEETING BUSINESS: Elect Johnny Kincaid to the RAINS Board \n\n\n\n\n\n\n\n\n\n\n\n\n\nWhere: Jaya’s Authentic Foods 119 SE 4th ST\nWhen: 7/16/24 at 6 PM\nReservations: Sign up online – RAINS.com/event\nRSVP: Please reserve as soon as possible\nMeal Choices:\n\nJaya’s Chicken\nPul Ko Kee\n\n\n\n\n\n\n\n\n\n\n\n\n\n\n\n\n\n\nCost: $20.00 per person \n\n\n\n\n 
URL:https://rains8.com/event/rains-monthly-meeting/
LOCATION:Jaya’s Authentic Foods\, 119 SE 4th ST\, Evansville\, IN\, 47708\, United States
CATEGORIES:Monthly Meeting
ATTACH;FMTTYPE=image/jpeg:https://rains8.com/wp-content/uploads/2024/07/337996140_6673990435967813_1635193087136230489_n-e1720118379113.jpg
ORGANIZER;CN="Republican Assembly Indiana Southwest":MAILTO:republicans@rains8.com
END:VEVENT
END:VCALENDAR